BEGIN:VCALENDAR
VERSION:2.0
PRODID:-//Cockermouth CAN - ECPv6.15.16//NONSGML v1.0//EN
CALSCALE:GREGORIAN
METHOD:PUBLISH
X-WR-CALNAME:Cockermouth CAN
X-ORIGINAL-URL:https://cockermouthcan.org.uk
X-WR-CALDESC:Events for Cockermouth CAN
REFRESH-INTERVAL;VALUE=DURATION:PT1H
X-Robots-Tag:noindex
X-PUBLISHED-TTL:PT1H
BEGIN:VTIMEZONE
TZID:Europe/London
BEGIN:DAYLIGHT
TZOFFSETFROM:+0000
TZOFFSETTO:+0100
TZNAME:BST
DTSTART:20240331T010000
END:DAYLIGHT
BEGIN:STANDARD
TZOFFSETFROM:+0100
TZOFFSETTO:+0000
TZNAME:GMT
DTSTART:20241027T010000
END:STANDARD
BEGIN:DAYLIGHT
TZOFFSETFROM:+0000
TZOFFSETTO:+0100
TZNAME:BST
DTSTART:20250330T010000
END:DAYLIGHT
BEGIN:STANDARD
TZOFFSETFROM:+0100
TZOFFSETTO:+0000
TZNAME:GMT
DTSTART:20251026T010000
END:STANDARD
BEGIN:DAYLIGHT
TZOFFSETFROM:+0000
TZOFFSETTO:+0100
TZNAME:BST
DTSTART:20260329T010000
END:DAYLIGHT
BEGIN:STANDARD
TZOFFSETFROM:+0100
TZOFFSETTO:+0000
TZNAME:GMT
DTSTART:20261025T010000
END:STANDARD
BEGIN:DAYLIGHT
TZOFFSETFROM:+0000
TZOFFSETTO:+0100
TZNAME:BST
DTSTART:20270328T010000
END:DAYLIGHT
BEGIN:STANDARD
TZOFFSETFROM:+0100
TZOFFSETTO:+0000
TZNAME:GMT
DTSTART:20271031T010000
END:STANDARD
END:VTIMEZONE
BEGIN:VEVENT
DTSTART;TZID=Europe/London:20260221T120000
DTEND;TZID=Europe/London:20260221T143000
DTSTAMP:20260420T081050
CREATED:20260110T151011Z
LAST-MODIFIED:20260205T174920Z
UID:2355-1771675200-1771684200@cockermouthcan.org.uk
SUMMARY:Cockermouth Repair Café
DESCRIPTION:Bring your items along to be mended!\n\nClothing – Fabric & knitted items (Socks\, jumpers\, jackets\, tents)\nFurniture & Toys – Small\, light items (Chairs\, Stools\, Tables)\nElectricals – Small items (Lamps\, Fairy Lights\, Kettles\, Irons)\nKintsugi – The ancient Japanese art of ceramic mending\nBicycle Repairs and advice\n3D Printing – Small replacement parts fabricated while you wait\nJewellery repairs\nTech support and advice – laptops & smartphones\n\nShared free lunch of bread\, soup & cake while you wait\n  \nFor repairs offered on the day\nCheck the Repair Café updates on Cockermouth CAN’s Facebook page \nVolunteers\nNew repair volunteers & helpers are very welcome to join our friendly repair community! \nRepairs free\, donations welcome!\n 
URL:https://cockermouthcan.org.uk/event/2026/02/21/cockermouth-repair-cafe-2/
LOCATION:Lorton St. Methodist Church Hall\, Methodist Church\, Lorton St\, Cockermouth\, Cumbria\, CA13 9RH\, United Kingdom
CATEGORIES:Community Events,Repair Café,Volunteer Days
ATTACH;FMTTYPE=image/jpeg:https://cockermouthcan.org.uk/wp-content/uploads/2026/01/617060932_122197962722348610_6082045612492691754_n-e1770166925584.jpg
ORGANIZER;CN="Cockermouth CAN":MAILTO:hello@cockermouthcan.org.uk
END:VEVENT
BEGIN:VEVENT
DTSTART;TZID=Europe/London:20260207T100000
DTEND;TZID=Europe/London:20260207T140000
DTSTAMP:20260420T081050
CREATED:20260201T164200Z
LAST-MODIFIED:20260204T010904Z
UID:2374-1770458400-1770472800@cockermouthcan.org.uk
SUMMARY:Sustainable Living Library Day
DESCRIPTION:Four 45 minute sessions giving free guidance\, information and help on some of the main issues that help living sustainably and living better in and around Cockermouth. Feel free to drop in for one – or better still\, stay for all of them! \nFind out about our Repair Café\nIdeas\, information and questions answered! \n10:15 to 11:00 – Composting with Master Composters\nChat to Garden Organic to find out how to start composting\, ask your composting questions\, and share your successes! You too can turn your kitchen or garden waste into compost\, a mulch or a soil improver! \n11:15 to 12:00 – Energy Saving at Home\nCome and talk to us about keeping your home cosy and warm\, reducing your bills and how to get free support for energy and cost saving measures. \n12:15 to 13:00 – Cut Your Food Waste with SLO Food\nWant to stop wasting money on food that simply ends up in the bin? Determined to eat better this year? Then come to our food session for friendly\, personalised advice on how you can do both. \n13:15 to 14:00 – Supporting Local Wildlife and Nature\nA useful update about what Cockermouth CAN is doing to increase habitat in and around the town\, to restore hedgerows\, introduce copses and increase woodland. Find out its plans and activities for 2026\, and sign up to join in!
URL:https://cockermouthcan.org.uk/event/2026/02/07/sustainable-living-with-cockermouth-can/
LOCATION:Cockermouth Library\, 88 Main Street\, Cockermouth\, Cumbria\, CA13 9LU\, United Kingdom
CATEGORIES:Community Events,Local Food,Talks
ATTACH;FMTTYPE=image/jpeg:https://cockermouthcan.org.uk/wp-content/uploads/2026/02/Library_Cockermouth_-_geograph.org_.uk_-_3451612-e1769964288339.jpg
ORGANIZER;CN="Cockermouth CAN":MAILTO:hello@cockermouthcan.org.uk
END:VEVENT
BEGIN:VEVENT
DTSTART;TZID=Europe/London:20260117T120000
DTEND;TZID=Europe/London:20260117T143000
DTSTAMP:20260420T081050
CREATED:20260110T150819Z
LAST-MODIFIED:20260110T150819Z
UID:2350-1768651200-1768660200@cockermouthcan.org.uk
SUMMARY:Cockermouth Repair Café
DESCRIPTION:Bring your items along to be mended!\n\nClothing – Fabric & knitted items (Socks\, jumpers\, jackets\, tents)\nFurniture & Toys – Small\, light items (Chairs\, Stools\, Tables)\nElectricals – Small items (Lamps\, Fairy Lights\, Kettles\, Irons)\nKintsugi – The ancient Japanese art of ceramic mending\n\nShared free lunch of bread\, soup & cake while you wait\n  \nFor repairs offered on the day\nCheck the Repair Café updates on Cockermouth CAN’s Facebook page \nVolunteers\nNew repair volunteers & helpers are very welcome to join our friendly repair community! \nRepairs free\, donations welcome!\n 
URL:https://cockermouthcan.org.uk/event/2026/01/17/cockermouth-repair-cafe/
LOCATION:Lorton St. Methodist Church Hall\, Methodist Church\, Lorton St\, Cockermouth\, Cumbria\, CA13 9RH\, United Kingdom
CATEGORIES:Community Events,Repair Café,Volunteer Days
ATTACH;FMTTYPE=image/jpeg:https://cockermouthcan.org.uk/wp-content/uploads/2025/12/IMG_5992-scaled-e1765299367353.jpg
ORGANIZER;CN="Cockermouth CAN":MAILTO:hello@cockermouthcan.org.uk
END:VEVENT
BEGIN:VEVENT
DTSTART;TZID=Europe/London:20251220T120000
DTEND;TZID=Europe/London:20251220T143000
DTSTAMP:20260420T081050
CREATED:20251209T170024Z
LAST-MODIFIED:20251210T222603Z
UID:2205-1766232000-1766241000@cockermouthcan.org.uk
SUMMARY:Cockermouth Repair Café
DESCRIPTION:Bring your items along to be mended!\n\nClothing – Fabric & knitted items (Socks\, jumpers\, jackets\, tents)\nFurniture & Toys – Small\, light items (Chairs\, Stools\, Tables)\nElectricals – Small items (Lamps\, Fairy Lights\, Kettles\, Irons)\nKintsugi – The ancient Japanese art of ceramic mending\n\nShared free lunch of bread\, soup & cake while you wait\n  \nFor repairs offered on the day\nCheck the Repair Café updates on Cockermouth CAN’s Facebook page \nVolunteers\nNew repair volunteers & helpers are very welcome to join our friendly repair community! \nRepairs free\, donations welcome!\n 
URL:https://cockermouthcan.org.uk/event/2025/12/20/cockermouth-repair-cafe/
LOCATION:Lorton St. Methodist Church Hall\, Methodist Church\, Lorton St\, Cockermouth\, Cumbria\, CA13 9RH\, United Kingdom
CATEGORIES:Community Events,Repair Café,Volunteer Days
ATTACH;FMTTYPE=image/jpeg:https://cockermouthcan.org.uk/wp-content/uploads/2025/12/IMG_5992-scaled-e1765299367353.jpg
ORGANIZER;CN="Cockermouth CAN":MAILTO:hello@cockermouthcan.org.uk
END:VEVENT
BEGIN:VEVENT
DTSTART;TZID=Europe/London:20251214T120000
DTEND;TZID=Europe/London:20251214T150000
DTSTAMP:20260420T081050
CREATED:20251202T013255Z
LAST-MODIFIED:20251210T222454Z
UID:2038-1765713600-1765724400@cockermouthcan.org.uk
SUMMARY:Tree/Hedge Planting
DESCRIPTION:We need extra hands to continue our excellent work reinstating the hedgerows and planting standard trees at Strawberry How Farm. Please come along if you can\, even just for an hour or so. We have plenty of extra spades having recently bought some new ones specially designed for tree-planting.
URL:https://cockermouthcan.org.uk/event/2025/12/14/tree-hedge-planting/
LOCATION:Strawberry How Farm\, 54.656354\, -3.337505
CATEGORIES:Tree Planting,Volunteer Days
ATTACH;FMTTYPE=image/jpeg:https://cockermouthcan.org.uk/wp-content/uploads/2025/12/033bc00b-5aae-4574-986f-3223dc8d3427-1_all_4125-scaled-e1764632955370.jpg
ORGANIZER;CN="Cockermouth CAN":MAILTO:hello@cockermouthcan.org.uk
END:VEVENT
BEGIN:VEVENT
DTSTART;TZID=Europe/London:20251210T100000
DTEND;TZID=Europe/London:20251210T130000
DTSTAMP:20260420T081050
CREATED:20251202T013056Z
LAST-MODIFIED:20251210T222454Z
UID:2034-1765360800-1765371600@cockermouthcan.org.uk
SUMMARY:Tree/Hedge Planting
DESCRIPTION:We need extra hands to continue our excellent work reinstating the hedgerows and planting standard trees at Strawberry How Farm. Please come along if you can\, even just for an hour or so. We have plenty of extra spades having recently bought some new ones specially designed for tree-planting.
URL:https://cockermouthcan.org.uk/event/2025/12/10/tree-hedge-planting/
LOCATION:Strawberry How Farm\, 54.656354\, -3.337505
CATEGORIES:Tree Planting,Volunteer Days
ATTACH;FMTTYPE=image/jpeg:https://cockermouthcan.org.uk/wp-content/uploads/2025/12/033bc00b-5aae-4574-986f-3223dc8d3427-1_all_4125-scaled-e1764632955370.jpg
ORGANIZER;CN="Cockermouth CAN":MAILTO:hello@cockermouthcan.org.uk
END:VEVENT
BEGIN:VEVENT
DTSTART;TZID=Europe/London:20251206T100000
DTEND;TZID=Europe/London:20251206T130000
DTSTAMP:20260420T081050
CREATED:20251202T012758Z
LAST-MODIFIED:20251210T222454Z
UID:2025-1765015200-1765026000@cockermouthcan.org.uk
SUMMARY:Tree/Hedge Planting
DESCRIPTION:We need extra hands to continue our excellent work reinstating the hedgerows and planting standard trees at Strawberry How Farm. Please come along if you can\, even just for an hour or so. We have plenty of extra spades having recently bought some new ones specially designed for tree-planting.
URL:https://cockermouthcan.org.uk/event/2025/12/06/tree-hedge-planting/
LOCATION:Strawberry How Farm\, 54.656354\, -3.337505
CATEGORIES:Tree Planting,Volunteer Days
ATTACH;FMTTYPE=image/jpeg:https://cockermouthcan.org.uk/wp-content/uploads/2025/12/033bc00b-5aae-4574-986f-3223dc8d3427-1_all_4125-scaled-e1764632955370.jpg
ORGANIZER;CN="Cockermouth CAN":MAILTO:hello@cockermouthcan.org.uk
END:VEVENT
BEGIN:VEVENT
DTSTART;TZID=Europe/London:20251204T193000
DTEND;TZID=Europe/London:20251204T210000
DTSTAMP:20260420T081050
CREATED:20251202T020200Z
LAST-MODIFIED:20251209T151846Z
UID:2042-1764876600-1764882000@cockermouthcan.org.uk
SUMMARY:Rewilding and Reintroductions
DESCRIPTION:Can we have a wilder Cumbria please? A talk by Kevin Scott\, Cumbria Wildlife Trust’s Northern Reserves Officer. \n£3.00 entry\, teas/coffees on arrival. All welcome! \n 
URL:https://cockermouthcan.org.uk/event/2025/12/04/rewilding-and-reintroductions/
LOCATION:Yew Tree Hall\, Yew Tree Hall\, Lorton\, Cumbria\, CA13 9UL\, United Kingdom
CATEGORIES:Talks
ATTACH;FMTTYPE=image/png:https://cockermouthcan.org.uk/wp-content/uploads/2025/12/image-6.png
ORGANIZER;CN="Melbreak Wildlife Group":MAILTO:melbreakcommunities@gmail.com
END:VEVENT
BEGIN:VEVENT
DTSTART;TZID=Europe/London:20251130T120000
DTEND;TZID=Europe/London:20251130T150000
DTSTAMP:20260420T081050
CREATED:20251201T234419Z
LAST-MODIFIED:20251210T222454Z
UID:1940-1764504000-1764514800@cockermouthcan.org.uk
SUMMARY:Tree/Hedge Planting
DESCRIPTION:We need extra hands to continue our excellent work reinstating the hedgerows and planting standard trees at Strawberry How Farm. The forecast is for dry weather and only a light breeze – perfect for working outdoors.\n\n\n\nPlease come along if you can\, even just for an hour or so. We have plenty of extra spades having recently bought some new ones specially designed for tree-planting.
URL:https://cockermouthcan.org.uk/event/2025/11/30/tree-hedge-planting-2/
LOCATION:Strawberry How Farm\, 54.656354\, -3.337505
CATEGORIES:Tree Planting,Volunteer Days
ATTACH;FMTTYPE=image/jpeg:https://cockermouthcan.org.uk/wp-content/uploads/2025/12/033bc00b-5aae-4574-986f-3223dc8d3427-1_all_4125-scaled-e1764632955370.jpg
ORGANIZER;CN="Cockermouth CAN":MAILTO:hello@cockermouthcan.org.uk
END:VEVENT
END:VCALENDAR