BEGIN:VCALENDAR
VERSION:2.0
PRODID:-//Cockermouth CAN - ECPv6.15.16//NONSGML v1.0//EN
CALSCALE:GREGORIAN
METHOD:PUBLISH
X-ORIGINAL-URL:https://cockermouthcan.org.uk
X-WR-CALDESC:Events for Cockermouth CAN
REFRESH-INTERVAL;VALUE=DURATION:PT1H
X-Robots-Tag:noindex
X-PUBLISHED-TTL:PT1H
BEGIN:VTIMEZONE
TZID:Europe/London
BEGIN:DAYLIGHT
TZOFFSETFROM:+0000
TZOFFSETTO:+0100
TZNAME:BST
DTSTART:20240331T010000
END:DAYLIGHT
BEGIN:STANDARD
TZOFFSETFROM:+0100
TZOFFSETTO:+0000
TZNAME:GMT
DTSTART:20241027T010000
END:STANDARD
BEGIN:DAYLIGHT
TZOFFSETFROM:+0000
TZOFFSETTO:+0100
TZNAME:BST
DTSTART:20250330T010000
END:DAYLIGHT
BEGIN:STANDARD
TZOFFSETFROM:+0100
TZOFFSETTO:+0000
TZNAME:GMT
DTSTART:20251026T010000
END:STANDARD
BEGIN:DAYLIGHT
TZOFFSETFROM:+0000
TZOFFSETTO:+0100
TZNAME:BST
DTSTART:20260329T010000
END:DAYLIGHT
BEGIN:STANDARD
TZOFFSETFROM:+0100
TZOFFSETTO:+0000
TZNAME:GMT
DTSTART:20261025T010000
END:STANDARD
BEGIN:DAYLIGHT
TZOFFSETFROM:+0000
TZOFFSETTO:+0100
TZNAME:BST
DTSTART:20270328T010000
END:DAYLIGHT
BEGIN:STANDARD
TZOFFSETFROM:+0100
TZOFFSETTO:+0000
TZNAME:GMT
DTSTART:20271031T010000
END:STANDARD
END:VTIMEZONE
BEGIN:VEVENT
DTSTART;TZID=Europe/London:20260321T120000
DTEND;TZID=Europe/London:20260321T143000
DTSTAMP:20260417T223901
CREATED:20260110T151233Z
LAST-MODIFIED:20260315T122941Z
UID:2359-1774094400-1774103400@cockermouthcan.org.uk
SUMMARY:*Cancelled* Cockermouth Repair Café
DESCRIPTION:Unfortunately due to road works on Lorton street on the 21st of March\, we’ve had to make the difficult decision to cancel this month’s repair café. Many of our repairers have heavy equipment and would not be able to attend without road access. We’re very sorry and hope to see everyone in April!\n\n  \nBring your items along to be mended!\n\nClothing – Fabric & knitted items (Socks\, jumpers\, jackets\, tents)\nFurniture & Toys – Small\, light items (Chairs\, Stools\, Tables)\nElectricals – Small items (Lamps\, Fairy Lights\, Kettles\, Irons)\nKintsugi – The ancient Japanese art of ceramic mending\n\nShared free lunch of bread\, soup & cake while you wait\n  \nFor repairs offered on the day\nCheck the Repair Café updates on Cockermouth CAN’s Facebook page \nVolunteers\nNew repair volunteers & helpers are very welcome to join our friendly repair community! \nRepairs free\, donations welcome!\n 
URL:https://cockermouthcan.org.uk/event/2026/03/21/cockermouth-repair-cafe/
LOCATION:Lorton St. Methodist Church Hall\, Methodist Church\, Lorton St\, Cockermouth\, Cumbria\, CA13 9RH\, United Kingdom
CATEGORIES:Community Events,Repair Café,Volunteer Days
ATTACH;FMTTYPE=image/jpeg:https://cockermouthcan.org.uk/wp-content/uploads/2025/12/IMG_5992-scaled-e1765299367353.jpg
ORGANIZER;CN="Cockermouth CAN":MAILTO:hello@cockermouthcan.org.uk
END:VEVENT
BEGIN:VEVENT
DTSTART;TZID=Europe/London:20260221T120000
DTEND;TZID=Europe/London:20260221T143000
DTSTAMP:20260417T223901
CREATED:20260110T151011Z
LAST-MODIFIED:20260205T174920Z
UID:2355-1771675200-1771684200@cockermouthcan.org.uk
SUMMARY:Cockermouth Repair Café
DESCRIPTION:Bring your items along to be mended!\n\nClothing – Fabric & knitted items (Socks\, jumpers\, jackets\, tents)\nFurniture & Toys – Small\, light items (Chairs\, Stools\, Tables)\nElectricals – Small items (Lamps\, Fairy Lights\, Kettles\, Irons)\nKintsugi – The ancient Japanese art of ceramic mending\nBicycle Repairs and advice\n3D Printing – Small replacement parts fabricated while you wait\nJewellery repairs\nTech support and advice – laptops & smartphones\n\nShared free lunch of bread\, soup & cake while you wait\n  \nFor repairs offered on the day\nCheck the Repair Café updates on Cockermouth CAN’s Facebook page \nVolunteers\nNew repair volunteers & helpers are very welcome to join our friendly repair community! \nRepairs free\, donations welcome!\n 
URL:https://cockermouthcan.org.uk/event/2026/02/21/cockermouth-repair-cafe-2/
LOCATION:Lorton St. Methodist Church Hall\, Methodist Church\, Lorton St\, Cockermouth\, Cumbria\, CA13 9RH\, United Kingdom
CATEGORIES:Community Events,Repair Café,Volunteer Days
ATTACH;FMTTYPE=image/jpeg:https://cockermouthcan.org.uk/wp-content/uploads/2026/01/617060932_122197962722348610_6082045612492691754_n-e1770166925584.jpg
ORGANIZER;CN="Cockermouth CAN":MAILTO:hello@cockermouthcan.org.uk
END:VEVENT
BEGIN:VEVENT
DTSTART;TZID=Europe/London:20260117T120000
DTEND;TZID=Europe/London:20260117T143000
DTSTAMP:20260417T223901
CREATED:20260110T150819Z
LAST-MODIFIED:20260110T150819Z
UID:2350-1768651200-1768660200@cockermouthcan.org.uk
SUMMARY:Cockermouth Repair Café
DESCRIPTION:Bring your items along to be mended!\n\nClothing – Fabric & knitted items (Socks\, jumpers\, jackets\, tents)\nFurniture & Toys – Small\, light items (Chairs\, Stools\, Tables)\nElectricals – Small items (Lamps\, Fairy Lights\, Kettles\, Irons)\nKintsugi – The ancient Japanese art of ceramic mending\n\nShared free lunch of bread\, soup & cake while you wait\n  \nFor repairs offered on the day\nCheck the Repair Café updates on Cockermouth CAN’s Facebook page \nVolunteers\nNew repair volunteers & helpers are very welcome to join our friendly repair community! \nRepairs free\, donations welcome!\n 
URL:https://cockermouthcan.org.uk/event/2026/01/17/cockermouth-repair-cafe/
LOCATION:Lorton St. Methodist Church Hall\, Methodist Church\, Lorton St\, Cockermouth\, Cumbria\, CA13 9RH\, United Kingdom
CATEGORIES:Community Events,Repair Café,Volunteer Days
ATTACH;FMTTYPE=image/jpeg:https://cockermouthcan.org.uk/wp-content/uploads/2025/12/IMG_5992-scaled-e1765299367353.jpg
ORGANIZER;CN="Cockermouth CAN":MAILTO:hello@cockermouthcan.org.uk
END:VEVENT
BEGIN:VEVENT
DTSTART;TZID=Europe/London:20251220T120000
DTEND;TZID=Europe/London:20251220T143000
DTSTAMP:20260417T223901
CREATED:20251209T170024Z
LAST-MODIFIED:20251210T222603Z
UID:2205-1766232000-1766241000@cockermouthcan.org.uk
SUMMARY:Cockermouth Repair Café
DESCRIPTION:Bring your items along to be mended!\n\nClothing – Fabric & knitted items (Socks\, jumpers\, jackets\, tents)\nFurniture & Toys – Small\, light items (Chairs\, Stools\, Tables)\nElectricals – Small items (Lamps\, Fairy Lights\, Kettles\, Irons)\nKintsugi – The ancient Japanese art of ceramic mending\n\nShared free lunch of bread\, soup & cake while you wait\n  \nFor repairs offered on the day\nCheck the Repair Café updates on Cockermouth CAN’s Facebook page \nVolunteers\nNew repair volunteers & helpers are very welcome to join our friendly repair community! \nRepairs free\, donations welcome!\n 
URL:https://cockermouthcan.org.uk/event/2025/12/20/cockermouth-repair-cafe/
LOCATION:Lorton St. Methodist Church Hall\, Methodist Church\, Lorton St\, Cockermouth\, Cumbria\, CA13 9RH\, United Kingdom
CATEGORIES:Community Events,Repair Café,Volunteer Days
ATTACH;FMTTYPE=image/jpeg:https://cockermouthcan.org.uk/wp-content/uploads/2025/12/IMG_5992-scaled-e1765299367353.jpg
ORGANIZER;CN="Cockermouth CAN":MAILTO:hello@cockermouthcan.org.uk
END:VEVENT
END:VCALENDAR